BEGIN:VCALENDAR
TZID:Europe/Ljubljana
BEGIN:VEVENT
CLASS:PUBLIC
CREATED:20260423T103847
DESCRIPTION:Poleti potekata dva programa za otroke:\n<ul>\n 	<li><strong>Duhovno-počitniški teden l.: Od srede 25. do ponedeljka 30. junija 2025.</strong></li>\n 	<li><strong>Duhovno-počitniški teden ll.: Od nedelje 10. do petka 15. avgusta 2025.</strong></li>\n</ul>\n<strong>Kje: </strong>Pri sestrah Hčera Marije Pomočnice (FMA) v Marijinem domu na Bledu. <strong>Naslov:</strong> Partizanska cesta 6, 4260 Bled.\n\n<strong>Časovni okvir:</strong> Program se začne prvi dan z večerjo in konča zadnji dan popoldne s skupnim programom za starše.\n\n<strong>Prijave </strong>zbiramo do zapolnitve prostih mest. <a href="https://docs.google.com/forms/d/e/1FAIpQLSec0xa13Rn6VwC9MRVZdtnihe6Iedd-s15W1kVIyc4z7XOggA/viewform">Povezava do PRIJAVNICE<strong>.</strong></a>\n\n<strong>Kontakt: </strong>md.bled@gmail.com ali 070 610 249 (s. Damjana).\n\n<strong>Opis programa</strong><em>: </em>Program prežema salezijanska domačnost in veselje, igra, kateheza in športne aktivnosti. Veliko bomo zunaj v naravi, šli bomo na romanje, krepili našo vero in se veselili preprostega življenja.\n\n<strong>Prispevek: </strong>Prvi otrok: 130 eur, drugi otrok in vsi naslednji iz iste družine: 110 eur.\n\nProgram vodimo sestre FMA s sodelavci in animatorji.\n\nVabljeni!
DTEND:20250815T170000Z
DTSTAMP:20260423T103847
DTSTART:20250625T170000
LAST-MODIFIED:20091109T101015
LOCATION:Marijin dom, Partizanska cesta 6, Bled, , 
SUMMARY;LANGUAGE=en-us:Duhovno-počitniški programi za otroke 2025
BEGIN:VALARM
TRIGGER:-PT1440M
ACTION:DISPLAY
DESCRIPTION:Reminder
END:VALARM
END:VEVENT
END:VCALENDAR
