BEGIN:VCALENDAR
TZID:Europe/Ljubljana
BEGIN:VEVENT
CLASS:PUBLIC
CREATED:20260423T103708
DESCRIPTION:Poleti potekata dva programa za družine:\n<ul>\n 	<li><strong>duhovno-počitniški vikend: 1.-3. avgust 2025</strong></li>\n 	<li><strong>duhovno počitniški teden: nedelja, 6. – petek, 11. julij 2025 </strong></li>\n</ul>\n<strong>Kje: </strong>Pri sestrah Hčera Marije Pomočnice v Marijinem domu na Bledu. <strong>Naslov:</strong> Partizanska cesta 6, 4260 Bled.\n\n<strong>Časovni okvir:</strong> Program se začne prvi dan z večerjo in konča zadnji dan s kosilom.\n\n<strong>Prijave </strong>zbiramo do zapolnitve prostih mest. <a href="https://docs.google.com/forms/d/e/1FAIpQLSfwiQ6fiYtH2rfnFVVPu8B_KRAO-wSptFmrZJuYYHz4d8O_vg/viewform?usp=pp_url">Povezava do spletne <strong>PRIJAVNICE.</strong></a>\n\n<strong>Kontakt: </strong>md.bled@gmail.com ali 070 610 249 (s. Damjana).\n\n<strong>Opis programa:</strong> Program prežema salezijanska domačnost in veselje, igra, kateheza in športne aktivnosti. Del programa poteka ločeno za starše in otroke,  del dneva je prost, da ga vsaka družina oblikuje po svoje.\n\n<strong>Prispevek: </strong>Otroci do 3. leta: brezplačno; otroci do 14. leta: znižana cena; mladi nad 14. letom in odrasli: 160 EUR za teden, oziroma 70 EUR za vikend.\n\nProgram vodimo sestre FMA z animatorji.\n\nVabljeni!
DTEND:20250803T123000Z
DTSTAMP:20260423T103708
DTSTART:20250706T170000
LAST-MODIFIED:20091109T101015
LOCATION:Marijin dom, Partizanska cesta 6, Bled, , 
SUMMARY;LANGUAGE=en-us:Duhovno-počitniški programi za družine
BEGIN:VALARM
TRIGGER:-PT1440M
ACTION:DISPLAY
DESCRIPTION:Reminder
END:VALARM
END:VEVENT
END:VCALENDAR
